BEGIN:VCALENDAR
VERSION:2.0
PRODID:-//platzhaus-helmholtzplatz - ECPv6.15.20//NONSGML v1.0//EN
CALSCALE:GREGORIAN
METHOD:PUBLISH
X-WR-CALNAME:platzhaus-helmholtzplatz
X-ORIGINAL-URL:https://platzhaus-helmholtzplatz.de
X-WR-CALDESC:Veranstaltungen für platzhaus-helmholtzplatz
REFRESH-INTERVAL;VALUE=DURATION:PT1H
X-Robots-Tag:noindex
X-PUBLISHED-TTL:PT1H
BEGIN:VTIMEZONE
TZID:Africa/Johannesburg
BEGIN:STANDARD
TZOFFSETFROM:+0200
TZOFFSETTO:+0200
TZNAME:SAST
DTSTART:20250101T000000
END:STANDARD
END:VTIMEZONE
BEGIN:VEVENT
DTSTART;TZID=Africa/Johannesburg:20260424T170000
DTEND;TZID=Africa/Johannesburg:20260424T190000
DTSTAMP:20260424T114414
CREATED:20260118T194545Z
LAST-MODIFIED:20260118T200039Z
UID:2299-1777050000-1777057200@platzhaus-helmholtzplatz.de
SUMMARY:Rat- und Tat-Café
DESCRIPTION:Jeden vierten Freitag im Monat im Platzhaus lädt der Berliner Mieterverein\, Pankow gegen Verdrängung und deutsche Wohnen & Co enteignen zum Rat- und Tat-Café ein. Jeden 4. Freitag im Monat\, 17 – 19 Uhr Ob Ärger mit der Hausverwaltung\, zu hohe Miete oder einfach Lust auf Austausch: Das Café bietet Raum für Orientierung\, Vernetzung und gegenseitige Unterstützung – ehrenamtlich\, solidarisch & kostenlos. Keine Rechtsberatung\, aber Hilfe zur Selbsthilfe.
URL:https://platzhaus-helmholtzplatz.de/event/rat-und-tat-cafe-5/
ATTACH;FMTTYPE=image/jpeg:https://platzhaus-helmholtzplatz.de/wp-content/uploads/2025/08/photo_2025-08-13_20-55-33.jpg
END:VEVENT
END:VCALENDAR